BEGIN:VCALENDAR
VERSION:2.0
PRODID:-//jEvents 2.0 for Joomla//EN
CALSCALE:GREGORIAN
METHOD:PUBLISH
BEGIN:VEVENT
UID:4a64ec949f671fcd36de23882bb50629
CATEGORIES:British Club Trials Event
CREATED:20160118T190757
SUMMARY:Fell Green Northern Centre Trial
DESCRIPTION;ENCODING=QUOTED-PRINTABLE:\n\nBootle Scramble Club\n\n\nFell Green Northern Centre Trial at Fell Gree
 n Bootle\n\n\n31st January 2016\n\n\n11am Start\n\n\nNovice, Green & Hard r
 outes\n\n\nA really good 4 laps of 10 sections\n\n\nThis is a rescheduled e
 vent previosuly meant to be run on the 17th but the snow/ice forced us to c
 ancel.\n\n\nIf possible please bring an observer.\n\n\nMartha will be there
  with the catering van!\n\n\nEnjoy your day\n\n\n \n
CONTACT:Gary Gowan 07740964982
DTSTAMP:20260422T222420Z
DTSTART:20160131T110000Z
SEQUENCE:0
TRANSP:OPAQUE
END:VEVENT
END:VCALENDAR