BEGIN:VCALENDAR
VERSION:2.0
PRODID:-//jEvents 2.0 for Joomla//EN
CALSCALE:GREGORIAN
METHOD:PUBLISH
BEGIN:VEVENT
UID:5f7a0b64af24947d7649cfbe5276b4af
CATEGORIES:British Club Trials Event
CREATED:20160202T142440
SUMMARY:Macclesfield trials club team 6t9 final
LOCATION:Rough Heys Quarry
DESCRIPTION;ENCODING=QUOTED-PRINTABLE:<p>Date - April 17th Macclesfield trials Club Ltd - Open Final team team 6t
 9 championship (round 5)</p><p>Venue - Rough Heys Quarrry Bosley Macclesfie
 ld signed off A523 Macclesfield to Leek Road approx. 2 miles from Macclesfi
 eld.</p><p>Classes for - Experts, Inters,O/40+, Novice O/40, O/50, youth an
 d beginners. 3 routes plus 50/50 .</p><p>Start time - at 11.00 am. Close 30
  mins to start.</p><p>Secretary - Bill Brown 2 Orme Crescent Tytherington M
 acclesfield SK10 2HS email:- <span id="cloak02e39df092a7466cdcd60ee129d8b32
 c">This email address is being protected from spambots. You need JavaScript
  enabled to view it.</span><script type='text/javascript'>
				document.get
 ElementById('cloak02e39df092a7466cdcd60ee129d8b32c').innerHTML = '';
				va
 r prefix = '&#109;a' + 'i&#108;' + '&#116;o';
				var path = 'hr' + 'ef' + 
 '=';
				var addy02e39df092a7466cdcd60ee129d8b32c = 'm&#97;cctr&#105;&#97;l
 s' + '&#64;';
				addy02e39df092a7466cdcd60ee129d8b32c = addy02e39df092a746
 6cdcd60ee129d8b32c + 't&#105;sc&#97;l&#105;' + '&#46;' + 'c&#111;' + '&#46;
 ' + '&#117;k';
				var addy_text02e39df092a7466cdcd60ee129d8b32c = 'm&#97;c
 ctr&#105;&#97;ls' + '&#64;' + 't&#105;sc&#97;l&#105;' + '&#46;' + 'c&#111;'
  + '&#46;' + '&#117;k';document.getElementById('cloak02e39df092a7466cdcd60e
 e129d8b32c').innerHTML += '<a ' + path + '\'' + prefix + ':' + addy02e39df0
 92a7466cdcd60ee129d8b32c + '\'>'+addy_text02e39df092a7466cdcd60ee129d8b32c+
 '<\/a>';
		</script> 01625613649</p><p>Other info - burger van on site free
  entry and free refreshment s for all observers.</p><p> </p><p>Entry on the
  day but entry  form is attached for convenence </p>
DTSTAMP:20260420T131554Z
DTSTART:20160417T110000Z
SEQUENCE:0
TRANSP:OPAQUE
END:VEVENT
END:VCALENDAR