BEGIN:VCALENDAR
VERSION:2.0
PRODID:-//jEvents 2.0 for Joomla//EN
CALSCALE:GREGORIAN
METHOD:PUBLISH
BEGIN:VEVENT
UID:f9533dfe99b4f9ee0e2d3dc0e43b2ac6
CATEGORIES:British Club Trials Event
CREATED:20161122T200340
SUMMARY:sutton falcons mcc leigh jepson memorial trial
DESCRIPTION;ENCODING=QUOTED-PRINTABLE:\n\nsutton falcons mcc are running the leigh jepson memorial trial.all adul
 t and youth solo classes except D class.\n\n\nat eadonsfield,dronfield near
  chesterfield derbyshire s18 7ur\n\n\nthis will be a multi route trial with
  something for everyone\n\n\n10.15am start\n\n\nentries close at start\n\n\
 nPLEASE BRING AN OBSERVER  wine / chocolates for all observers !\n
CONTACT:http://www.suttonfalcons.org/
DTSTAMP:20260425T181627Z
DTSTART:20161127T101500Z
DTEND:20161127T170000Z
SEQUENCE:0
TRANSP:OPAQUE
END:VEVENT
END:VCALENDAR