BEGIN:VCALENDAR
VERSION:2.0
PRODID:-//jEvents 2.0 for Joomla//EN
CALSCALE:GREGORIAN
METHOD:PUBLISH
BEGIN:VEVENT
UID:e50b9ace95ba25e7fa16a9f86c934de2
CATEGORIES:British Club Trials Event
CREATED:20161211T185135
SUMMARY:Barrow and District MCC - Boxing day fun trial
LOCATION:Torver Railway 
DESCRIPTION;ENCODING=QUOTED-PRINTABLE:<p>we are holding our boxing day fun trial on the 26th December at the old 
 railway line at torver, nr coniston.</p><p>it will be the same format as ou
 r multiclass trals, 3 courses, green, clubmen and a </p><p>black route, the
  trial will be 4 laps of around 10 sections. start time will be 10:30</p>
CONTACT:Angus Jenkinson on 015395 31766
DTSTAMP:20260422T175706Z
DTSTART:20161226T103000Z
SEQUENCE:0
TRANSP:OPAQUE
END:VEVENT
END:VCALENDAR